BEGIN:VCALENDAR
VERSION:2.0
PRODID:-//Lex Levinrad Real Estate Training - ECPv6.15.11//NONSGML v1.0//EN
CALSCALE:GREGORIAN
METHOD:PUBLISH
X-WR-CALNAME:Lex Levinrad Real Estate Training
X-ORIGINAL-URL:https://www.lexlevinrad.com
X-WR-CALDESC:Events for Lex Levinrad Real Estate Training
REFRESH-INTERVAL;VALUE=DURATION:PT1H
X-Robots-Tag:noindex
X-PUBLISHED-TTL:PT1H
BEGIN:VTIMEZONE
TZID:America/New_York
BEGIN:DAYLIGHT
TZOFFSETFROM:-0500
TZOFFSETTO:-0400
TZNAME:EDT
DTSTART:20240310T070000
END:DAYLIGHT
BEGIN:STANDARD
TZOFFSETFROM:-0400
TZOFFSETTO:-0500
TZNAME:EST
DTSTART:20241103T060000
END:STANDARD
BEGIN:DAYLIGHT
TZOFFSETFROM:-0500
TZOFFSETTO:-0400
TZNAME:EDT
DTSTART:20250309T070000
END:DAYLIGHT
BEGIN:STANDARD
TZOFFSETFROM:-0400
TZOFFSETTO:-0500
TZNAME:EST
DTSTART:20251102T060000
END:STANDARD
BEGIN:DAYLIGHT
TZOFFSETFROM:-0500
TZOFFSETTO:-0400
TZNAME:EDT
DTSTART:20260308T070000
END:DAYLIGHT
BEGIN:STANDARD
TZOFFSETFROM:-0400
TZOFFSETTO:-0500
TZNAME:EST
DTSTART:20261101T060000
END:STANDARD
BEGIN:DAYLIGHT
TZOFFSETFROM:-0500
TZOFFSETTO:-0400
TZNAME:EDT
DTSTART:20270314T070000
END:DAYLIGHT
BEGIN:STANDARD
TZOFFSETFROM:-0400
TZOFFSETTO:-0500
TZNAME:EST
DTSTART:20271107T060000
END:STANDARD
END:VTIMEZONE
BEGIN:VTIMEZONE
TZID:America/New_York
BEGIN:DAYLIGHT
TZOFFSETFROM:-0500
TZOFFSETTO:-0400
TZNAME:EDT
DTSTART:20170312T070000
END:DAYLIGHT
BEGIN:STANDARD
TZOFFSETFROM:-0400
TZOFFSETTO:-0500
TZNAME:EST
DTSTART:20171105T060000
END:STANDARD
BEGIN:DAYLIGHT
TZOFFSETFROM:-0500
TZOFFSETTO:-0400
TZNAME:EDT
DTSTART:20180311T070000
END:DAYLIGHT
BEGIN:STANDARD
TZOFFSETFROM:-0400
TZOFFSETTO:-0500
TZNAME:EST
DTSTART:20181104T060000
END:STANDARD
BEGIN:DAYLIGHT
TZOFFSETFROM:-0500
TZOFFSETTO:-0400
TZNAME:EDT
DTSTART:20190310T070000
END:DAYLIGHT
BEGIN:STANDARD
TZOFFSETFROM:-0400
TZOFFSETTO:-0500
TZNAME:EST
DTSTART:20191103T060000
END:STANDARD
BEGIN:DAYLIGHT
TZOFFSETFROM:-0500
TZOFFSETTO:-0400
TZNAME:EDT
DTSTART:20200308T070000
END:DAYLIGHT
BEGIN:STANDARD
TZOFFSETFROM:-0400
TZOFFSETTO:-0500
TZNAME:EST
DTSTART:20201101T060000
END:STANDARD
BEGIN:DAYLIGHT
TZOFFSETFROM:-0500
TZOFFSETTO:-0400
TZNAME:EDT
DTSTART:20210314T070000
END:DAYLIGHT
BEGIN:STANDARD
TZOFFSETFROM:-0400
TZOFFSETTO:-0500
TZNAME:EST
DTSTART:20211107T060000
END:STANDARD
BEGIN:DAYLIGHT
TZOFFSETFROM:-0500
TZOFFSETTO:-0400
TZNAME:EDT
DTSTART:20220313T070000
END:DAYLIGHT
BEGIN:STANDARD
TZOFFSETFROM:-0400
TZOFFSETTO:-0500
TZNAME:EST
DTSTART:20221106T060000
END:STANDARD
BEGIN:DAYLIGHT
TZOFFSETFROM:-0500
TZOFFSETTO:-0400
TZNAME:EDT
DTSTART:20230312T070000
END:DAYLIGHT
BEGIN:STANDARD
TZOFFSETFROM:-0400
TZOFFSETTO:-0500
TZNAME:EST
DTSTART:20231105T060000
END:STANDARD
BEGIN:DAYLIGHT
TZOFFSETFROM:-0500
TZOFFSETTO:-0400
TZNAME:EDT
DTSTART:20240310T070000
END:DAYLIGHT
BEGIN:STANDARD
TZOFFSETFROM:-0400
TZOFFSETTO:-0500
TZNAME:EST
DTSTART:20241103T060000
END:STANDARD
END:VTIMEZONE
BEGIN:VEVENT
DTSTART;VALUE=DATE:20260130
DTEND;VALUE=DATE:20260202
DTSTAMP:20260424T053654
CREATED:20250807T212553Z
LAST-MODIFIED:20251204T160215Z
UID:8367-1769731200-1769990399@www.lexlevinrad.com
SUMMARY:Wholesaling Inner Circle Mastermind Jan 2026
DESCRIPTION:
URL:https://www.lexlevinrad.com/event/wholesaling-inner-circle-mastermind-jan-2026/
LOCATION:DoubleTree by Hilton Hotel Deerfield Beach\, 100 Fairway Dr\, Deerfield Beach\, 33441
CATEGORIES:Inner Circle
END:VEVENT
BEGIN:VEVENT
DTSTART;VALUE=DATE:20251031
DTEND;VALUE=DATE:20251103
DTSTAMP:20260424T053654
CREATED:20241113T014921Z
LAST-MODIFIED:20250807T210843Z
UID:8062-1761868800-1762127999@www.lexlevinrad.com
SUMMARY:Buying Long Term & Short Term Rentals (Airbnb) Inner Circle Mastermind Nov 2025
DESCRIPTION:
URL:https://www.lexlevinrad.com/event/advanced-buying-long-term-and-short-term-rentals-inner-circle-nov-2025/
LOCATION:Wyndham Deerfield Beach Resort\, 2096 NE 2nd St\, Deerfield Beach\, FL\, 33441\, United States
CATEGORIES:Inner Circle
END:VEVENT
BEGIN:VEVENT
DTSTART;VALUE=DATE:20250725
DTEND;VALUE=DATE:20250728
DTSTAMP:20260424T053654
CREATED:20241113T014339Z
LAST-MODIFIED:20250507T185258Z
UID:8054-1753401600-1753660799@www.lexlevinrad.com
SUMMARY:Building Your Real Estate Business & Systems Inner Circle Mastermind Jul 2025
DESCRIPTION:
URL:https://www.lexlevinrad.com/event/advanced-building-your-real-estate-business-and-systems-inner-circle-jul-2025/
LOCATION:DoubleTree by Hilton Hotel Deerfield Beach\, 100 Fairway Dr\, Deerfield Beach\, 33441
CATEGORIES:Inner Circle
END:VEVENT
BEGIN:VEVENT
DTSTART;VALUE=DATE:20250502
DTEND;VALUE=DATE:20250505
DTSTAMP:20260424T053654
CREATED:20240417T144241Z
LAST-MODIFIED:20250129T202933Z
UID:7487-1746144000-1746403199@www.lexlevinrad.com
SUMMARY:Fixing & Flipping Houses Inner Circle Mastermind May 2025
DESCRIPTION:
URL:https://www.lexlevinrad.com/event/advanced-fixing-flipping-houses-inner-circle-mastermind-may-2025/
LOCATION:Wyndham Deerfield Beach Resort\, 2096 NE 2nd St\, Deerfield Beach\, FL\, 33441\, United States
CATEGORIES:Inner Circle
END:VEVENT
BEGIN:VEVENT
DTSTART;VALUE=DATE:20231117
DTEND;VALUE=DATE:20231120
DTSTAMP:20260424T053654
CREATED:20220823T133207Z
LAST-MODIFIED:20230104T182057Z
UID:6308-1700179200-1700438399@www.lexlevinrad.com
SUMMARY:Advanced Fixing & Flipping Inner Circle November 2023
DESCRIPTION:
URL:https://www.lexlevinrad.com/event/fixing-flipping-houses-inner-circle-november2023/
LOCATION:Wyndham Deerfield Beach Resort\, 2096 NE 2nd St\, Deerfield Beach\, FL\, 33441\, United States
CATEGORIES:Coaching,Inner Circle,Real Estate Events
END:VEVENT
BEGIN:VEVENT
DTSTART;VALUE=DATE:20230728
DTEND;VALUE=DATE:20230731
DTSTAMP:20260424T053654
CREATED:20220823T135924Z
LAST-MODIFIED:20230104T182029Z
UID:6330-1690502400-1690761599@www.lexlevinrad.com
SUMMARY:Advanced Wholesaling Inner Circle July 2023
DESCRIPTION:
URL:https://www.lexlevinrad.com/event/wholesaling-inner-circle-july-2023/
LOCATION:Wyndham Deerfield Beach Resort\, 2096 NE 2nd St\, Deerfield Beach\, FL\, 33441\, United States
CATEGORIES:Coaching,Inner Circle,Real Estate Events
END:VEVENT
BEGIN:VEVENT
DTSTART;VALUE=DATE:20230519
DTEND;VALUE=DATE:20230522
DTSTAMP:20260424T053654
CREATED:20220823T132833Z
LAST-MODIFIED:20230104T182606Z
UID:6305-1684454400-1684713599@www.lexlevinrad.com
SUMMARY:Advanced Fixing & Flipping Inner Circle May 2023
DESCRIPTION:
URL:https://www.lexlevinrad.com/event/fixing-flipping-houses-inner-circle-may2023/
LOCATION:Wyndham Deerfield Beach Resort\, 2096 NE 2nd St\, Deerfield Beach\, FL\, 33441\, United States
CATEGORIES:Coaching,Inner Circle,Real Estate Events
END:VEVENT
BEGIN:VEVENT
DTSTART;VALUE=DATE:20230106
DTEND;VALUE=DATE:20230109
DTSTAMP:20260424T053654
CREATED:20220823T135744Z
LAST-MODIFIED:20221214T071211Z
UID:6327-1672963200-1673222399@www.lexlevinrad.com
SUMMARY:Advanced Wholesaling Inner Circle January 2023
DESCRIPTION:
URL:https://www.lexlevinrad.com/event/wholesaling-inner-circle-january-2023/
LOCATION:DoubleTree by Hilton Hotel Deerfield Beach\, 100 Fairway Dr\, Deerfield Beach\, 33441
CATEGORIES:Coaching,Inner Circle,Real Estate Events
END:VEVENT
BEGIN:VEVENT
DTSTART;VALUE=DATE:20221104
DTEND;VALUE=DATE:20221107
DTSTAMP:20260424T053654
CREATED:20220207T220119Z
LAST-MODIFIED:20220816T135439Z
UID:6054-1667520000-1667779199@www.lexlevinrad.com
SUMMARY:Advanced Fixing & Flipping Inner Circle November 2022
DESCRIPTION:
URL:https://www.lexlevinrad.com/event/fixing-flipping-houses-inner-circle-nov2021-copy-copy/
LOCATION:Wyndham Deerfield Beach Resort\, 2096 NE 2nd St\, Deerfield Beach\, FL\, 33441\, United States
CATEGORIES:Coaching,Inner Circle,Real Estate Events
ATTACH;FMTTYPE=image/gif:https://www.lexlevinrad.com/wp-content/uploads/2017/10/Fixing-and-Flipping-Inner-Circle.gif
END:VEVENT
BEGIN:VEVENT
DTSTART;VALUE=DATE:20220812
DTEND;VALUE=DATE:20220815
DTSTAMP:20260424T053654
CREATED:20220207T214254Z
LAST-MODIFIED:20220525T182241Z
UID:6047-1660262400-1660521599@www.lexlevinrad.com
SUMMARY:Advanced Wholesaling Inner Circle August 2022
DESCRIPTION:
URL:https://www.lexlevinrad.com/event/wholesaling-inner-circle-january-2022-copy/
LOCATION:DoubleTree by Hilton Hotel Deerfield Beach\, 100 Fairway Dr\, Deerfield Beach\, 33441
CATEGORIES:Coaching,Inner Circle,Real Estate Events
ATTACH;FMTTYPE=image/gif:https://www.lexlevinrad.com/wp-content/uploads/2017/10/Wholesaling-Inner-Circle.gif
END:VEVENT
BEGIN:VEVENT
DTSTART;VALUE=DATE:20220520
DTEND;VALUE=DATE:20220523
DTSTAMP:20260424T053654
CREATED:20211130T233103Z
LAST-MODIFIED:20211201T133609Z
UID:5938-1653004800-1653263999@www.lexlevinrad.com
SUMMARY:Advanced Fixing & Flipping Inner Circle May 2022
DESCRIPTION:
URL:https://www.lexlevinrad.com/event/fixing-flipping-houses-inner-circle-nov2021-copy/
LOCATION:Wyndham Deerfield Beach Resort\, 2096 NE 2nd St\, Deerfield Beach\, FL\, 33441\, United States
CATEGORIES:Coaching,Inner Circle,Real Estate Events
ATTACH;FMTTYPE=image/gif:https://www.lexlevinrad.com/wp-content/uploads/2017/10/Fixing-and-Flipping-Inner-Circle.gif
END:VEVENT
BEGIN:VEVENT
DTSTART;VALUE=DATE:20220114
DTEND;VALUE=DATE:20220117
DTSTAMP:20260424T053654
CREATED:20211026T122327Z
LAST-MODIFIED:20211026T122635Z
UID:5865-1642118400-1642377599@www.lexlevinrad.com
SUMMARY:Advanced Wholesaling Inner Circle January 2022
DESCRIPTION:
URL:https://www.lexlevinrad.com/event/wholesaling-inner-circle-january-2022/
LOCATION:Wyndham Deerfield Beach Resort\, 2096 NE 2nd St\, Deerfield Beach\, FL\, 33441\, United States
CATEGORIES:Coaching,Inner Circle,Real Estate Events
ATTACH;FMTTYPE=image/gif:https://www.lexlevinrad.com/wp-content/uploads/2017/10/Wholesaling-Inner-Circle.gif
END:VEVENT
BEGIN:VEVENT
DTSTART;VALUE=DATE:20211119
DTEND;VALUE=DATE:20211122
DTSTAMP:20260424T053654
CREATED:20210615T113634Z
LAST-MODIFIED:20210714T204853Z
UID:5549-1637280000-1637539199@www.lexlevinrad.com
SUMMARY:Advanced Fixing & Flipping Inner Circle Nov 2021
DESCRIPTION:
URL:https://www.lexlevinrad.com/event/fixing-flipping-houses-inner-circle-nov2021/
LOCATION:Wyndham Deerfield Beach Resort\, 2096 NE 2nd St\, Deerfield Beach\, FL\, 33441\, United States
CATEGORIES:Coaching,Inner Circle,Real Estate Events
ATTACH;FMTTYPE=image/gif:https://www.lexlevinrad.com/wp-content/uploads/2017/10/Fixing-and-Flipping-Inner-Circle.gif
ORGANIZER;CN="Sarah Heeg":MAILTO:support at lexlevinrad.com
END:VEVENT
BEGIN:VEVENT
DTSTART;VALUE=DATE:20210604
DTEND;VALUE=DATE:20210607
DTSTAMP:20260424T053654
CREATED:20201205T111042Z
LAST-MODIFIED:20201205T111226Z
UID:5302-1622764800-1623023999@www.lexlevinrad.com
SUMMARY:Advanced Wholesaling Inner Circle June 2021
DESCRIPTION:
URL:https://www.lexlevinrad.com/event/wholesaling-inner-circle-june2021/
LOCATION:Wyndham Deerfield Beach Resort\, 2096 NE 2nd St\, Deerfield Beach\, FL\, 33441\, United States
CATEGORIES:Coaching,Inner Circle,Real Estate Events
ATTACH;FMTTYPE=image/gif:https://www.lexlevinrad.com/wp-content/uploads/2017/10/Wholesaling-Inner-Circle.gif
ORGANIZER;CN="Sarah Heeg":MAILTO:support at lexlevinrad.com
END:VEVENT
BEGIN:VEVENT
DTSTART;VALUE=DATE:20210521
DTEND;VALUE=DATE:20210524
DTSTAMP:20260424T053654
CREATED:20201205T111242Z
LAST-MODIFIED:20201205T111403Z
UID:5305-1621555200-1621814399@www.lexlevinrad.com
SUMMARY:Advanced Fixing & Flipping Inner Circle May 2021
DESCRIPTION:
URL:https://www.lexlevinrad.com/event/fixing-flipping-houses-inner-circle-may2021/
LOCATION:Wyndham Deerfield Beach Resort\, 2096 NE 2nd St\, Deerfield Beach\, FL\, 33441\, United States
CATEGORIES:Coaching,Inner Circle,Real Estate Events
ATTACH;FMTTYPE=image/gif:https://www.lexlevinrad.com/wp-content/uploads/2017/10/Fixing-and-Flipping-Inner-Circle.gif
ORGANIZER;CN="Sarah Heeg":MAILTO:support at lexlevinrad.com
END:VEVENT
BEGIN:VEVENT
DTSTART;VALUE=DATE:20210122
DTEND;VALUE=DATE:20210125
DTSTAMP:20260424T053654
CREATED:20200526T204404Z
LAST-MODIFIED:20200526T204507Z
UID:4888-1611273600-1611532799@www.lexlevinrad.com
SUMMARY:Advanced Wholesaling Inner Circle Jan 2021
DESCRIPTION:
URL:https://www.lexlevinrad.com/event/wholesaling-inner-circle-june2019-copy-copy-copy/
LOCATION:Wyndham Deerfield Beach Resort\, 2096 NE 2nd St\, Deerfield Beach\, FL\, 33441\, United States
CATEGORIES:Coaching,Inner Circle,Real Estate Events
ATTACH;FMTTYPE=image/gif:https://www.lexlevinrad.com/wp-content/uploads/2017/10/Wholesaling-Inner-Circle.gif
ORGANIZER;CN="Sarah Heeg":MAILTO:support at lexlevinrad.com
END:VEVENT
BEGIN:VEVENT
DTSTART;VALUE=DATE:20201113
DTEND;VALUE=DATE:20201116
DTSTAMP:20260424T053654
CREATED:20200526T204051Z
LAST-MODIFIED:20200526T204335Z
UID:4886-1605225600-1605484799@www.lexlevinrad.com
SUMMARY:Advanced Fixing & Flipping Inner Circle November 2020
DESCRIPTION:
URL:https://www.lexlevinrad.com/event/fixing-flipping-houses-inner-circle-nov2019-copy-copy/
LOCATION:Wyndham Deerfield Beach Resort\, 2096 NE 2nd St\, Deerfield Beach\, FL\, 33441\, United States
CATEGORIES:Coaching,Inner Circle,Real Estate Events
ATTACH;FMTTYPE=image/gif:https://www.lexlevinrad.com/wp-content/uploads/2017/10/Fixing-and-Flipping-Inner-Circle.gif
ORGANIZER;CN="Sarah Heeg":MAILTO:support at lexlevinrad.com
END:VEVENT
BEGIN:VEVENT
DTSTART;VALUE=DATE:20200626
DTEND;VALUE=DATE:20200629
DTSTAMP:20260424T053654
CREATED:20191202T231117Z
LAST-MODIFIED:20200526T204559Z
UID:4353-1593129600-1593388799@www.lexlevinrad.com
SUMMARY:Advanced Wholesaling Inner Circle June 2020
DESCRIPTION:
URL:https://www.lexlevinrad.com/event/wholesaling-inner-circle-june2019-copy-copy/
LOCATION:Wyndham Deerfield Beach Resort\, 2096 NE 2nd St\, Deerfield Beach\, FL\, 33441\, United States
CATEGORIES:Coaching,Inner Circle,Real Estate Events
ATTACH;FMTTYPE=image/gif:https://www.lexlevinrad.com/wp-content/uploads/2017/10/Wholesaling-Inner-Circle.gif
ORGANIZER;CN="Sarah Heeg":MAILTO:support at lexlevinrad.com
END:VEVENT
BEGIN:VEVENT
DTSTART;VALUE=DATE:20200612
DTEND;VALUE=DATE:20200615
DTSTAMP:20260424T053654
CREATED:20191202T230240Z
LAST-MODIFIED:20200526T204838Z
UID:4350-1591920000-1592179199@www.lexlevinrad.com
SUMMARY:Advanced Fixing & Flipping Inner Circle June 2020
DESCRIPTION:
URL:https://www.lexlevinrad.com/event/fixing-flipping-houses-inner-circle-nov2019-copy/
LOCATION:Wyndham Deerfield Beach Resort\, 2096 NE 2nd St\, Deerfield Beach\, FL\, 33441\, United States
CATEGORIES:Coaching,Inner Circle,Real Estate Events
ATTACH;FMTTYPE=image/gif:https://www.lexlevinrad.com/wp-content/uploads/2017/10/Fixing-and-Flipping-Inner-Circle.gif
ORGANIZER;CN="Sarah Heeg":MAILTO:support at lexlevinrad.com
END:VEVENT
BEGIN:VEVENT
DTSTART;TZID=America/New_York:20200207T083000
DTEND;TZID=America/New_York:20200209T170000
DTSTAMP:20260424T053654
CREATED:20191103T125948Z
LAST-MODIFIED:20191103T130112Z
UID:4318-1581064200-1581267600@www.lexlevinrad.com
SUMMARY:Advanced Wholesaling Inner Circle Feb 2020
DESCRIPTION:
URL:https://www.lexlevinrad.com/event/wholesaling-inner-circle-june2019-copy/
LOCATION:Wyndham Deerfield Beach Resort\, 2096 NE 2nd St\, Deerfield Beach\, FL\, 33441\, United States
CATEGORIES:Coaching,Inner Circle,Real Estate Events
ATTACH;FMTTYPE=image/gif:https://www.lexlevinrad.com/wp-content/uploads/2017/10/Wholesaling-Inner-Circle.gif
ORGANIZER;CN="Sarah Heeg":MAILTO:support at lexlevinrad.com
END:VEVENT
BEGIN:VEVENT
DTSTART;TZID=America/New_York:20191115T083000
DTEND;TZID=America/New_York:20191117T170000
DTSTAMP:20260424T053654
CREATED:20190325T195013Z
LAST-MODIFIED:20190325T195156Z
UID:3761-1573806600-1574010000@www.lexlevinrad.com
SUMMARY:Advanced Fixing & Flipping Inner Circle Nov 2019
DESCRIPTION:
URL:https://www.lexlevinrad.com/event/fixing-flipping-houses-inner-circle-nov2019/
LOCATION:Wyndham Deerfield Beach Resort\, 2096 NE 2nd St\, Deerfield Beach\, FL\, 33441\, United States
CATEGORIES:Coaching,Inner Circle,Real Estate Events
ATTACH;FMTTYPE=image/gif:https://www.lexlevinrad.com/wp-content/uploads/2017/10/Fixing-and-Flipping-Inner-Circle.gif
ORGANIZER;CN="Sarah Heeg":MAILTO:support at lexlevinrad.com
END:VEVENT
BEGIN:VEVENT
DTSTART;TZID=America/New_York:20190628T083000
DTEND;TZID=America/New_York:20190630T170000
DTSTAMP:20260424T053654
CREATED:20190420T200744Z
LAST-MODIFIED:20190420T201036Z
UID:3778-1561710600-1561914000@www.lexlevinrad.com
SUMMARY:Advanced Wholesaling Inner Circle June 2019
DESCRIPTION:
URL:https://www.lexlevinrad.com/event/wholesaling-inner-circle-june2019/
LOCATION:Wyndham Deerfield Beach Resort\, 2096 NE 2nd St\, Deerfield Beach\, FL\, 33441\, United States
CATEGORIES:Coaching,Inner Circle,Real Estate Events
ATTACH;FMTTYPE=image/gif:https://www.lexlevinrad.com/wp-content/uploads/2017/10/Wholesaling-Inner-Circle.gif
ORGANIZER;CN="Sarah Heeg":MAILTO:support at lexlevinrad.com
END:VEVENT
BEGIN:VEVENT
DTSTART;TZID=America/New_York:20190426T083000
DTEND;TZID=America/New_York:20190428T170000
DTSTAMP:20260424T053654
CREATED:20181024T105337Z
LAST-MODIFIED:20190312T142526Z
UID:3570-1556267400-1556470800@www.lexlevinrad.com
SUMMARY:Advanced Fixing & Flipping Inner Circle April 2019
DESCRIPTION:
URL:https://www.lexlevinrad.com/event/fixing-flipping-houses-inner-circle-april2019/
LOCATION:Wyndham Deerfield Beach Resort\, 2096 NE 2nd St\, Deerfield Beach\, FL\, 33441\, United States
CATEGORIES:Coaching,Inner Circle,Real Estate Events
ATTACH;FMTTYPE=image/gif:https://www.lexlevinrad.com/wp-content/uploads/2017/10/Fixing-and-Flipping-Inner-Circle.gif
ORGANIZER;CN="Sarah Heeg":MAILTO:support at lexlevinrad.com
END:VEVENT
BEGIN:VEVENT
DTSTART;TZID=America/New_York:20190125T083000
DTEND;TZID=America/New_York:20190127T170000
DTSTAMP:20260424T053654
CREATED:20181024T110114Z
LAST-MODIFIED:20181024T110223Z
UID:3578-1548405000-1548608400@www.lexlevinrad.com
SUMMARY:Advanced Wholesaling Inner Circle January 2019
DESCRIPTION:
URL:https://www.lexlevinrad.com/event/wholesaling-inner-circle-jan2019/
LOCATION:Wyndham Deerfield Beach Resort\, 2096 NE 2nd St\, Deerfield Beach\, FL\, 33441\, United States
CATEGORIES:Coaching,Inner Circle,Real Estate Events
ATTACH;FMTTYPE=image/gif:https://www.lexlevinrad.com/wp-content/uploads/2017/10/Wholesaling-Inner-Circle.gif
ORGANIZER;CN="Sarah Heeg":MAILTO:support at lexlevinrad.com
END:VEVENT
BEGIN:VEVENT
DTSTART;TZID=America/New_York:20181102T083000
DTEND;TZID=America/New_York:20181104T170000
DTSTAMP:20260424T053654
CREATED:20180514T212555Z
LAST-MODIFIED:20180719T205040Z
UID:2832-1541147400-1541350800@www.lexlevinrad.com
SUMMARY:Advanced Fixing & Flipping Inner Circle November 2018
DESCRIPTION:
URL:https://www.lexlevinrad.com/event/fixing-flipping-houses-inner-circle-nov2018/
LOCATION:Wyndham Deerfield Beach Resort\, 2096 NE 2nd St\, Deerfield Beach\, FL\, 33441\, United States
CATEGORIES:Coaching,Inner Circle,Real Estate Events
ATTACH;FMTTYPE=image/gif:https://www.lexlevinrad.com/wp-content/uploads/2017/10/Fixing-and-Flipping-Inner-Circle.gif
ORGANIZER;CN="Sarah Heeg":MAILTO:support at lexlevinrad.com
END:VEVENT
BEGIN:VEVENT
DTSTART;TZID=America/New_York:20180622T083000
DTEND;TZID=America/New_York:20180624T170000
DTSTAMP:20260424T053654
CREATED:20180214T152140Z
LAST-MODIFIED:20180214T160545Z
UID:2681-1529656200-1529859600@www.lexlevinrad.com
SUMMARY:Advanced Wholesaling Inner Circle June 2018
DESCRIPTION:
URL:https://www.lexlevinrad.com/event/wholesaling-inner-circle-june-2018/
LOCATION:Wyndham Deerfield Beach Resort\, 2096 NE 2nd St\, Deerfield Beach\, FL\, 33441\, United States
CATEGORIES:Coaching,Inner Circle,Real Estate Events
ATTACH;FMTTYPE=image/gif:https://www.lexlevinrad.com/wp-content/uploads/2017/10/Wholesaling-Inner-Circle.gif
ORGANIZER;CN="Sarah Heeg":MAILTO:support at lexlevinrad.com
END:VEVENT
BEGIN:VEVENT
DTSTART;TZID=America/New_York:20180504T083000
DTEND;TZID=America/New_York:20180506T170000
DTSTAMP:20260424T053654
CREATED:20171017T111457Z
LAST-MODIFIED:20180213T221916Z
UID:1893-1525422600-1525626000@www.lexlevinrad.com
SUMMARY:Advanced Fixing & Flipping Inner Circle May 2018
DESCRIPTION:
URL:https://www.lexlevinrad.com/event/fixing-flipping-houses-inner-circle-may-2018/
LOCATION:Hyatt Place Boca Raton Downtown\, 100 E Palmetto Park Rd\, Boca Raton\, FL\, 33432\, United States
CATEGORIES:Coaching,Inner Circle,Real Estate Events
ATTACH;FMTTYPE=image/gif:https://www.lexlevinrad.com/wp-content/uploads/2017/10/Fixing-and-Flipping-Inner-Circle.gif
ORGANIZER;CN="Sarah Heeg":MAILTO:support at lexlevinrad.com
END:VEVENT
END:VCALENDAR