BEGIN:VCALENDAR
VERSION:2.0
PRODID:-//Lex Levinrad Real Estate Training - ECPv6.15.11//NONSGML v1.0//EN
CALSCALE:GREGORIAN
METHOD:PUBLISH
X-WR-CALNAME:Lex Levinrad Real Estate Training
X-ORIGINAL-URL:https://www.lexlevinrad.com
X-WR-CALDESC:Events for Lex Levinrad Real Estate Training
REFRESH-INTERVAL;VALUE=DURATION:PT1H
X-Robots-Tag:noindex
X-PUBLISHED-TTL:PT1H
BEGIN:VTIMEZONE
TZID:America/New_York
BEGIN:DAYLIGHT
TZOFFSETFROM:-0500
TZOFFSETTO:-0400
TZNAME:EDT
DTSTART:20230312T070000
END:DAYLIGHT
BEGIN:STANDARD
TZOFFSETFROM:-0400
TZOFFSETTO:-0500
TZNAME:EST
DTSTART:20231105T060000
END:STANDARD
BEGIN:DAYLIGHT
TZOFFSETFROM:-0500
TZOFFSETTO:-0400
TZNAME:EDT
DTSTART:20240310T070000
END:DAYLIGHT
BEGIN:STANDARD
TZOFFSETFROM:-0400
TZOFFSETTO:-0500
TZNAME:EST
DTSTART:20241103T060000
END:STANDARD
BEGIN:DAYLIGHT
TZOFFSETFROM:-0500
TZOFFSETTO:-0400
TZNAME:EDT
DTSTART:20250309T070000
END:DAYLIGHT
BEGIN:STANDARD
TZOFFSETFROM:-0400
TZOFFSETTO:-0500
TZNAME:EST
DTSTART:20251102T060000
END:STANDARD
BEGIN:DAYLIGHT
TZOFFSETFROM:-0500
TZOFFSETTO:-0400
TZNAME:EDT
DTSTART:20260308T070000
END:DAYLIGHT
BEGIN:STANDARD
TZOFFSETFROM:-0400
TZOFFSETTO:-0500
TZNAME:EST
DTSTART:20261101T060000
END:STANDARD
BEGIN:DAYLIGHT
TZOFFSETFROM:-0500
TZOFFSETTO:-0400
TZNAME:EDT
DTSTART:20270314T070000
END:DAYLIGHT
BEGIN:STANDARD
TZOFFSETFROM:-0400
TZOFFSETTO:-0500
TZNAME:EST
DTSTART:20271107T060000
END:STANDARD
END:VTIMEZONE
BEGIN:VTIMEZONE
TZID:America/New_York
BEGIN:DAYLIGHT
TZOFFSETFROM:-0500
TZOFFSETTO:-0400
TZNAME:EDT
DTSTART:20220313T070000
END:DAYLIGHT
BEGIN:STANDARD
TZOFFSETFROM:-0400
TZOFFSETTO:-0500
TZNAME:EST
DTSTART:20221106T060000
END:STANDARD
BEGIN:DAYLIGHT
TZOFFSETFROM:-0500
TZOFFSETTO:-0400
TZNAME:EDT
DTSTART:20230312T070000
END:DAYLIGHT
BEGIN:STANDARD
TZOFFSETFROM:-0400
TZOFFSETTO:-0500
TZNAME:EST
DTSTART:20231105T060000
END:STANDARD
BEGIN:DAYLIGHT
TZOFFSETFROM:-0500
TZOFFSETTO:-0400
TZNAME:EDT
DTSTART:20240310T070000
END:DAYLIGHT
BEGIN:STANDARD
TZOFFSETFROM:-0400
TZOFFSETTO:-0500
TZNAME:EST
DTSTART:20241103T060000
END:STANDARD
END:VTIMEZONE
BEGIN:VEVENT
DTSTART;VALUE=DATE:20260220
DTEND;VALUE=DATE:20260223
DTSTAMP:20260420T005049
CREATED:20250807T213133Z
LAST-MODIFIED:20251211T165506Z
UID:8369-1771545600-1771804799@www.lexlevinrad.com
SUMMARY:Foreclosures & Bank Owned Properties Boot Camp Feb 2026
DESCRIPTION:
URL:https://www.lexlevinrad.com/event/foreclosures-bank-owned-properties-boot-camp-feb-2026/
LOCATION:DoubleTree by Hilton Hotel Deerfield Beach\, 100 Fairway Dr\, Deerfield Beach\, 33441
CATEGORIES:Boot Camps
END:VEVENT
BEGIN:VEVENT
DTSTART;VALUE=DATE:20260130
DTEND;VALUE=DATE:20260202
DTSTAMP:20260420T005049
CREATED:20250807T212553Z
LAST-MODIFIED:20251204T160215Z
UID:8367-1769731200-1769990399@www.lexlevinrad.com
SUMMARY:Wholesaling Inner Circle Mastermind Jan 2026
DESCRIPTION:
URL:https://www.lexlevinrad.com/event/wholesaling-inner-circle-mastermind-jan-2026/
LOCATION:DoubleTree by Hilton Hotel Deerfield Beach\, 100 Fairway Dr\, Deerfield Beach\, 33441
CATEGORIES:Inner Circle
END:VEVENT
BEGIN:VEVENT
DTSTART;VALUE=DATE:20251031
DTEND;VALUE=DATE:20251103
DTSTAMP:20260420T005049
CREATED:20241113T014921Z
LAST-MODIFIED:20250807T210843Z
UID:8062-1761868800-1762127999@www.lexlevinrad.com
SUMMARY:Buying Long Term & Short Term Rentals (Airbnb) Inner Circle Mastermind Nov 2025
DESCRIPTION:
URL:https://www.lexlevinrad.com/event/advanced-buying-long-term-and-short-term-rentals-inner-circle-nov-2025/
LOCATION:Wyndham Deerfield Beach Resort\, 2096 NE 2nd St\, Deerfield Beach\, FL\, 33441\, United States
CATEGORIES:Inner Circle
END:VEVENT
BEGIN:VEVENT
DTSTART;VALUE=DATE:20251017
DTEND;VALUE=DATE:20251020
DTSTAMP:20260420T005049
CREATED:20241113T014750Z
LAST-MODIFIED:20250908T173623Z
UID:8060-1760659200-1760918399@www.lexlevinrad.com
SUMMARY:Wholesaling Real Estate Boot Camp Oct 2025
DESCRIPTION:
URL:https://www.lexlevinrad.com/event/wholesaling-real-estate-boot-camp-oct-2025/
LOCATION:DoubleTree by Hilton Hotel Deerfield Beach\, 100 Fairway Dr\, Deerfield Beach\, 33441
CATEGORIES:Boot Camps
END:VEVENT
BEGIN:VEVENT
DTSTART;VALUE=DATE:20250919
DTEND;VALUE=DATE:20250922
DTSTAMP:20260420T005049
CREATED:20241113T014626Z
LAST-MODIFIED:20250423T161920Z
UID:8058-1758240000-1758499199@www.lexlevinrad.com
SUMMARY:Fixing and Flipping Houses Boot Camp Sept 2025
DESCRIPTION:
URL:https://www.lexlevinrad.com/event/fixing-and-flipping-houses-boot-camp-sept-2025/
LOCATION:Wyndham Deerfield Beach Resort\, 2096 NE 2nd St\, Deerfield Beach\, FL\, 33441\, United States
CATEGORIES:Boot Camps
END:VEVENT
BEGIN:VEVENT
DTSTART;VALUE=DATE:20250822
DTEND;VALUE=DATE:20250825
DTSTAMP:20260420T005049
CREATED:20241113T014523Z
LAST-MODIFIED:20250423T162051Z
UID:8056-1755820800-1756079999@www.lexlevinrad.com
SUMMARY:Buying Rentals and Airbnb's Boot Camp Aug 2025
DESCRIPTION:
URL:https://www.lexlevinrad.com/event/buying-rentals-and-airbnbs-boot-camp-aug-2025/
LOCATION:Wyndham Deerfield Beach Resort\, 2096 NE 2nd St\, Deerfield Beach\, FL\, 33441\, United States
CATEGORIES:Boot Camps
END:VEVENT
BEGIN:VEVENT
DTSTART;VALUE=DATE:20250725
DTEND;VALUE=DATE:20250728
DTSTAMP:20260420T005049
CREATED:20241113T014339Z
LAST-MODIFIED:20250507T185258Z
UID:8054-1753401600-1753660799@www.lexlevinrad.com
SUMMARY:Building Your Real Estate Business & Systems Inner Circle Mastermind Jul 2025
DESCRIPTION:
URL:https://www.lexlevinrad.com/event/advanced-building-your-real-estate-business-and-systems-inner-circle-jul-2025/
LOCATION:DoubleTree by Hilton Hotel Deerfield Beach\, 100 Fairway Dr\, Deerfield Beach\, 33441
CATEGORIES:Inner Circle
END:VEVENT
BEGIN:VEVENT
DTSTART;VALUE=DATE:20250502
DTEND;VALUE=DATE:20250505
DTSTAMP:20260420T005049
CREATED:20240417T144241Z
LAST-MODIFIED:20250129T202933Z
UID:7487-1746144000-1746403199@www.lexlevinrad.com
SUMMARY:Fixing & Flipping Houses Inner Circle Mastermind May 2025
DESCRIPTION:
URL:https://www.lexlevinrad.com/event/advanced-fixing-flipping-houses-inner-circle-mastermind-may-2025/
LOCATION:Wyndham Deerfield Beach Resort\, 2096 NE 2nd St\, Deerfield Beach\, FL\, 33441\, United States
CATEGORIES:Inner Circle
END:VEVENT
BEGIN:VEVENT
DTSTART;VALUE=DATE:20250404
DTEND;VALUE=DATE:20250407
DTSTAMP:20260420T005049
CREATED:20240417T144023Z
LAST-MODIFIED:20250129T203142Z
UID:7485-1743724800-1743983999@www.lexlevinrad.com
SUMMARY:The Wholesaling Real Estate Boot Camp Apr 2025
DESCRIPTION:
URL:https://www.lexlevinrad.com/event/the-wholesaling-real-estate-boot-camp-april-2025/
LOCATION:Wyndham Deerfield Beach Resort\, 2096 NE 2nd St\, Deerfield Beach\, FL\, 33441\, United States
CATEGORIES:Boot Camps
END:VEVENT
BEGIN:VEVENT
DTSTART;VALUE=DATE:20250314
DTEND;VALUE=DATE:20250317
DTSTAMP:20260420T005049
CREATED:20240417T143844Z
LAST-MODIFIED:20250129T203112Z
UID:7483-1741910400-1742169599@www.lexlevinrad.com
SUMMARY:Fixing & Flipping Houses Boot Camp Mar 2025
DESCRIPTION:
URL:https://www.lexlevinrad.com/event/fixing-flipping-houses-boot-camp-mar-2025/
LOCATION:Wyndham Deerfield Beach Resort\, 2096 NE 2nd St\, Deerfield Beach\, FL\, 33441\, United States
CATEGORIES:Boot Camps
END:VEVENT
BEGIN:VEVENT
DTSTART;VALUE=DATE:20250221
DTEND;VALUE=DATE:20250224
DTSTAMP:20260420T005049
CREATED:20240417T143623Z
LAST-MODIFIED:20241217T183654Z
UID:7480-1740096000-1740355199@www.lexlevinrad.com
SUMMARY:Foreclosures & Bank Owned Properties Boot Camp Feb 2025
DESCRIPTION:
URL:https://www.lexlevinrad.com/event/foreclosures-short-sales-bank-owned-properties-boot-camp-feb-2025/
LOCATION:Embassy Suites Deerfield Beach\, 950 S Ocean Dr\, Deerfield Beach\, FL\, 33441\, United States
CATEGORIES:Boot Camps
END:VEVENT
BEGIN:VEVENT
DTSTART;VALUE=DATE:20250124
DTEND;VALUE=DATE:20250127
DTSTAMP:20260420T005049
CREATED:20240417T143017Z
LAST-MODIFIED:20241113T015119Z
UID:7477-1737676800-1737935999@www.lexlevinrad.com
SUMMARY:Wholesaling Inner Circle Mastermind Jan 2025
DESCRIPTION:
URL:https://www.lexlevinrad.com/event/advanced-wholesaling-inner-circle-january-2024-copy/
LOCATION:DoubleTree by Hilton Hotel Deerfield Beach\, 100 Fairway Dr\, Deerfield Beach\, 33441
END:VEVENT
BEGIN:VEVENT
DTSTART;VALUE=DATE:20241108
DTEND;VALUE=DATE:20241111
DTSTAMP:20260420T005049
CREATED:20230901T182603Z
LAST-MODIFIED:20240904T212717Z
UID:7000-1731024000-1731283199@www.lexlevinrad.com
SUMMARY:Buying Long Term & Short Term Rentals (Airbnb) Inner Circle Mastermind Nov 2024
DESCRIPTION:
URL:https://www.lexlevinrad.com/event/advanced-buying-long-term-and-short-term-rentals-inner-circle-nov-2024/
LOCATION:DoubleTree by Hilton Hotel Deerfield Beach\, 100 Fairway Dr\, Deerfield Beach\, 33441
END:VEVENT
BEGIN:VEVENT
DTSTART;VALUE=DATE:20241018
DTEND;VALUE=DATE:20241021
DTSTAMP:20260420T005049
CREATED:20230901T182436Z
LAST-MODIFIED:20240910T153801Z
UID:6998-1729209600-1729468799@www.lexlevinrad.com
SUMMARY:Wholesaling & Flipping With Creative Financing Boot Camp Oct 2024
DESCRIPTION:
URL:https://www.lexlevinrad.com/event/wholesaling-and-flipping-real-estate-boot-camp-oct-2024/
LOCATION:Wyndham Deerfield Beach Resort\, 2096 NE 2nd St\, Deerfield Beach\, FL\, 33441\, United States
END:VEVENT
BEGIN:VEVENT
DTSTART;VALUE=DATE:20240920
DTEND;VALUE=DATE:20240923
DTSTAMP:20260420T005049
CREATED:20230901T182201Z
LAST-MODIFIED:20240709T204746Z
UID:6996-1726790400-1727049599@www.lexlevinrad.com
SUMMARY:Buying Rentals & Building Wealth Boot Camp Sept 2024
DESCRIPTION:
URL:https://www.lexlevinrad.com/event/buying-rentals-and-building-wealth-boot-camp-sept-2024/
LOCATION:Wyndham Deerfield Beach Resort\, 2096 NE 2nd St\, Deerfield Beach\, FL\, 33441\, United States
END:VEVENT
BEGIN:VEVENT
DTSTART;VALUE=DATE:20240823
DTEND;VALUE=DATE:20240826
DTSTAMP:20260420T005049
CREATED:20230901T182016Z
LAST-MODIFIED:20240621T213847Z
UID:6994-1724371200-1724630399@www.lexlevinrad.com
SUMMARY:Airbnb & Short Term Rentals Boot Camp Aug 2024
DESCRIPTION:
URL:https://www.lexlevinrad.com/event/airbnb-short-term-rentals-boot-camp-aug-2024/
LOCATION:Wyndham Deerfield Beach Resort\, 2096 NE 2nd St\, Deerfield Beach\, FL\, 33441\, United States
END:VEVENT
BEGIN:VEVENT
DTSTART;VALUE=DATE:20240726
DTEND;VALUE=DATE:20240729
DTSTAMP:20260420T005049
CREATED:20230901T181705Z
LAST-MODIFIED:20240709T155143Z
UID:6992-1721952000-1722211199@www.lexlevinrad.com
SUMMARY:Building Your Real Estate Business & Systems Inner Circle Mastermind Jul 2024
DESCRIPTION:
URL:https://www.lexlevinrad.com/event/advanced-building-your-real-estate-business-and-systems-inner-circle-jul-2024/
LOCATION:DoubleTree by Hilton Hotel Deerfield Beach\, 100 Fairway Dr\, Deerfield Beach\, 33441
END:VEVENT
BEGIN:VEVENT
DTSTART;VALUE=DATE:20240517
DTEND;VALUE=DATE:20240520
DTSTAMP:20260420T005049
CREATED:20230901T181540Z
LAST-MODIFIED:20240410T155221Z
UID:6990-1715904000-1716163199@www.lexlevinrad.com
SUMMARY:Advanced Fixing & Flipping Houses Inner Circle Mastermind May 2024
DESCRIPTION:
URL:https://www.lexlevinrad.com/event/advanced-fixing-flipping-inner-circle-may-2024/
LOCATION:Wyndham Deerfield Beach Resort\, 2096 NE 2nd St\, Deerfield Beach\, FL\, 33441\, United States
END:VEVENT
BEGIN:VEVENT
DTSTART;VALUE=DATE:20240419
DTEND;VALUE=DATE:20240422
DTSTAMP:20260420T005049
CREATED:20230901T180349Z
LAST-MODIFIED:20240410T154944Z
UID:6987-1713484800-1713743999@www.lexlevinrad.com
SUMMARY:The Wholesaling Real Estate Boot Camp Apr 2024
DESCRIPTION:
URL:https://www.lexlevinrad.com/event/wholesaling-real-estate-boot-camp-apr-2024/
LOCATION:DoubleTree by Hilton Hotel Deerfield Beach\, 100 Fairway Dr\, Deerfield Beach\, 33441
END:VEVENT
BEGIN:VEVENT
DTSTART;VALUE=DATE:20240405
DTEND;VALUE=DATE:20240408
DTSTAMP:20260420T005049
CREATED:20230901T180201Z
LAST-MODIFIED:20240215T150739Z
UID:6985-1712275200-1712534399@www.lexlevinrad.com
SUMMARY:Fixing & Flipping Houses Boot Camp Apr 2024
DESCRIPTION:
URL:https://www.lexlevinrad.com/event/fixing-flipping-houses-boot-camp-mar-2024/
LOCATION:Wyndham Deerfield Beach Resort\, 2096 NE 2nd St\, Deerfield Beach\, FL\, 33441\, United States
END:VEVENT
BEGIN:VEVENT
DTSTART;VALUE=DATE:20240223
DTEND;VALUE=DATE:20240226
DTSTAMP:20260420T005049
CREATED:20230901T180006Z
LAST-MODIFIED:20231212T202002Z
UID:6983-1708646400-1708905599@www.lexlevinrad.com
SUMMARY:Foreclosures & Bank Owned Properties Boot Camp Feb 2024
DESCRIPTION:
URL:https://www.lexlevinrad.com/event/foreclosures-bank-owned-properties-boot-camp/
LOCATION:DoubleTree by Hilton Hotel Deerfield Beach\, 100 Fairway Dr\, Deerfield Beach\, 33441
END:VEVENT
BEGIN:VEVENT
DTSTART;VALUE=DATE:20240216
DTEND;VALUE=DATE:20240220
DTSTAMP:20260420T005049
CREATED:20240114T163447Z
LAST-MODIFIED:20240114T163532Z
UID:7273-1708041600-1708387199@www.lexlevinrad.com
SUMMARY:Coaching Student Cruise
DESCRIPTION:Must be a current coaching student to attend
URL:https://www.lexlevinrad.com/event/coaching-student-cruise/
CATEGORIES:Coaching
END:VEVENT
BEGIN:VEVENT
DTSTART;VALUE=DATE:20240112
DTEND;VALUE=DATE:20240115
DTSTAMP:20260420T005049
CREATED:20230901T174901Z
LAST-MODIFIED:20231212T201910Z
UID:6980-1705017600-1705276799@www.lexlevinrad.com
SUMMARY:Advanced Wholesaling Inner Circle January 2024
DESCRIPTION:
URL:https://www.lexlevinrad.com/event/advanced-wholesaling-inner-circle-january-2024/
LOCATION:Wyndham Deerfield Beach Resort\, 2096 NE 2nd St\, Deerfield Beach\, FL\, 33441\, United States
END:VEVENT
BEGIN:VEVENT
DTSTART;VALUE=DATE:20231117
DTEND;VALUE=DATE:20231120
DTSTAMP:20260420T005049
CREATED:20220823T133207Z
LAST-MODIFIED:20230104T182057Z
UID:6308-1700179200-1700438399@www.lexlevinrad.com
SUMMARY:Advanced Fixing & Flipping Inner Circle November 2023
DESCRIPTION:
URL:https://www.lexlevinrad.com/event/fixing-flipping-houses-inner-circle-november2023/
LOCATION:Wyndham Deerfield Beach Resort\, 2096 NE 2nd St\, Deerfield Beach\, FL\, 33441\, United States
CATEGORIES:Coaching,Inner Circle,Real Estate Events
END:VEVENT
BEGIN:VEVENT
DTSTART;VALUE=DATE:20231020
DTEND;VALUE=DATE:20231023
DTSTAMP:20260420T005049
CREATED:20220823T133412Z
LAST-MODIFIED:20230104T181913Z
UID:6311-1697760000-1698019199@www.lexlevinrad.com
SUMMARY:Wholesaling Real Estate Boot Camp October 2023
DESCRIPTION:
URL:https://www.lexlevinrad.com/event/distressed-real-estate-boot-camp-wholesaling-oct-2023/
LOCATION:Wyndham Deerfield Beach Resort\, 2096 NE 2nd St\, Deerfield Beach\, FL\, 33441\, United States
CATEGORIES:Boot Camps,Real Estate Events
END:VEVENT
BEGIN:VEVENT
DTSTART;VALUE=DATE:20230929
DTEND;VALUE=DATE:20231002
DTSTAMP:20260420T005049
CREATED:20220823T140411Z
LAST-MODIFIED:20220823T140905Z
UID:6335-1695945600-1696204799@www.lexlevinrad.com
SUMMARY:Airbnb & Short Term Rentals Boot Camp September 2023
DESCRIPTION:
URL:https://www.lexlevinrad.com/event/foreclosures-bank-owned-properties-boot-camp-sept-2023/
LOCATION:Wyndham Deerfield Beach Resort\, 2096 NE 2nd St\, Deerfield Beach\, FL\, 33441\, United States
CATEGORIES:Boot Camps,Real Estate Events
END:VEVENT
BEGIN:VEVENT
DTSTART;VALUE=DATE:20230825
DTEND;VALUE=DATE:20230828
DTSTAMP:20260420T005049
CREATED:20220823T135344Z
LAST-MODIFIED:20230104T181711Z
UID:6325-1692921600-1693180799@www.lexlevinrad.com
SUMMARY:Fixing and Flipping Houses Boot Camp August 2023
DESCRIPTION:
URL:https://www.lexlevinrad.com/event/fixing-and-flipping-houses-boot-camp-august-2023/
LOCATION:Wyndham Deerfield Beach Resort\, 2096 NE 2nd St\, Deerfield Beach\, FL\, 33441\, United States
CATEGORIES:Boot Camps,Real Estate Events
END:VEVENT
BEGIN:VEVENT
DTSTART;VALUE=DATE:20230728
DTEND;VALUE=DATE:20230731
DTSTAMP:20260420T005049
CREATED:20220823T135924Z
LAST-MODIFIED:20230104T182029Z
UID:6330-1690502400-1690761599@www.lexlevinrad.com
SUMMARY:Advanced Wholesaling Inner Circle July 2023
DESCRIPTION:
URL:https://www.lexlevinrad.com/event/wholesaling-inner-circle-july-2023/
LOCATION:Wyndham Deerfield Beach Resort\, 2096 NE 2nd St\, Deerfield Beach\, FL\, 33441\, United States
CATEGORIES:Coaching,Inner Circle,Real Estate Events
END:VEVENT
BEGIN:VEVENT
DTSTART;VALUE=DATE:20230519
DTEND;VALUE=DATE:20230522
DTSTAMP:20260420T005049
CREATED:20220823T132833Z
LAST-MODIFIED:20230104T182606Z
UID:6305-1684454400-1684713599@www.lexlevinrad.com
SUMMARY:Advanced Fixing & Flipping Inner Circle May 2023
DESCRIPTION:
URL:https://www.lexlevinrad.com/event/fixing-flipping-houses-inner-circle-may2023/
LOCATION:Wyndham Deerfield Beach Resort\, 2096 NE 2nd St\, Deerfield Beach\, FL\, 33441\, United States
CATEGORIES:Coaching,Inner Circle,Real Estate Events
END:VEVENT
BEGIN:VEVENT
DTSTART;VALUE=DATE:20230428
DTEND;VALUE=DATE:20230501
DTSTAMP:20260420T005049
CREATED:20220823T133930Z
LAST-MODIFIED:20230222T220613Z
UID:6314-1682640000-1682899199@www.lexlevinrad.com
SUMMARY:Wholesaling Real Estate Boot Camp April 2023
DESCRIPTION:
URL:https://www.lexlevinrad.com/event/distressed-real-estate-boot-camp-wholesaling-apr-2023/
LOCATION:DoubleTree by Hilton Hotel Deerfield Beach\, 100 Fairway Dr\, Deerfield Beach\, 33441
CATEGORIES:Boot Camps,Real Estate Events
END:VEVENT
END:VCALENDAR