BEGIN:VCALENDAR
VERSION:2.0
PRODID:-//Lex Levinrad Real Estate Training - ECPv6.15.11//NONSGML v1.0//EN
CALSCALE:GREGORIAN
METHOD:PUBLISH
X-ORIGINAL-URL:https://www.lexlevinrad.com
X-WR-CALDESC:Events for Lex Levinrad Real Estate Training
REFRESH-INTERVAL;VALUE=DURATION:PT1H
X-Robots-Tag:noindex
X-PUBLISHED-TTL:PT1H
BEGIN:VTIMEZONE
TZID:America/New_York
BEGIN:DAYLIGHT
TZOFFSETFROM:-0500
TZOFFSETTO:-0400
TZNAME:EDT
DTSTART:20250309T070000
END:DAYLIGHT
BEGIN:STANDARD
TZOFFSETFROM:-0400
TZOFFSETTO:-0500
TZNAME:EST
DTSTART:20251102T060000
END:STANDARD
BEGIN:DAYLIGHT
TZOFFSETFROM:-0500
TZOFFSETTO:-0400
TZNAME:EDT
DTSTART:20260308T070000
END:DAYLIGHT
BEGIN:STANDARD
TZOFFSETFROM:-0400
TZOFFSETTO:-0500
TZNAME:EST
DTSTART:20261101T060000
END:STANDARD
BEGIN:DAYLIGHT
TZOFFSETFROM:-0500
TZOFFSETTO:-0400
TZNAME:EDT
DTSTART:20270314T070000
END:DAYLIGHT
BEGIN:STANDARD
TZOFFSETFROM:-0400
TZOFFSETTO:-0500
TZNAME:EST
DTSTART:20271107T060000
END:STANDARD
END:VTIMEZONE
BEGIN:VEVENT
DTSTART;VALUE=DATE:20260821
DTEND;VALUE=DATE:20260824
DTSTAMP:20260420T030540
CREATED:20251211T160733Z
LAST-MODIFIED:20260416T183202Z
UID:8758-1787270400-1787529599@www.lexlevinrad.com
SUMMARY:Buying Rentals & Building Wealth Boot Camp Aug 2026
DESCRIPTION:
URL:https://www.lexlevinrad.com/event/buying-rentals-airbnbs-boot-camp/
CATEGORIES:Boot Camps
END:VEVENT
BEGIN:VEVENT
DTSTART;VALUE=DATE:20260925
DTEND;VALUE=DATE:20260928
DTSTAMP:20260420T030540
CREATED:20251211T163511Z
LAST-MODIFIED:20251211T165254Z
UID:8763-1790294400-1790553599@www.lexlevinrad.com
SUMMARY:Fixing & Flipping Houses Boot Camp Sept 2026
DESCRIPTION:
URL:https://www.lexlevinrad.com/event/fixing-flipping-houses-boot-camp/
CATEGORIES:Boot Camps
END:VEVENT
BEGIN:VEVENT
DTSTART;VALUE=DATE:20261016
DTEND;VALUE=DATE:20261019
DTSTAMP:20260420T030540
CREATED:20251211T164936Z
LAST-MODIFIED:20251211T165233Z
UID:8767-1792108800-1792367999@www.lexlevinrad.com
SUMMARY:Wholesaling Real Estate Boot Camp Oct 2026
DESCRIPTION:
URL:https://www.lexlevinrad.com/event/wholesaling-real-estate-boot-camp-oct-2026/
CATEGORIES:Boot Camps
END:VEVENT
BEGIN:VEVENT
DTSTART;VALUE=DATE:20261113
DTEND;VALUE=DATE:20261116
DTSTAMP:20260420T030540
CREATED:20251211T163623Z
LAST-MODIFIED:20251211T165215Z
UID:8765-1794528000-1794787199@www.lexlevinrad.com
SUMMARY:Buying Long & Short Term Rentals Inner Circle Mastermind Nov 2026
DESCRIPTION:
URL:https://www.lexlevinrad.com/event/buying-long-short-term-rentals-inner-circle-mastermind/
CATEGORIES:Inner Circle
END:VEVENT
END:VCALENDAR